View In:
ArcGIS JavaScript
ArcGIS Online Map Viewer
ArcGIS Earth
Service Description: To support a wide range of efforts to understand the geographic context and historical conditions of the Indian Residential Schools sites for a wide range of stakeholders, Indigenous Services Canada has created a web-based layer to access and visualize Historical Aerial Photography for those sites.
The Historical Aerial Photography of Indian Residential Schools dataset contain digital scans of aerial photographs that were acquired from 1924 to 1998 over Indian Residential school sites and surrounding areas across Canada. The digital scans were georeferenced, to match ground coordinates, saved in a resampled uncompressed raster format and compiled in a single mosaic layer along with attribute information for each photo such as date of photography. These are by no means the complete range of aerial photographs of each site, but instead an attempt has been made to select a single optimal photograph for each site that is of good photographic quality and acquired during each site’s years of operation. In some cases no photograph is available, and in others a photograph was only available after the years of operation. The source scanned prints was obtained from the archives of the National Air Photo Library (NAPL) of Natural Resources Canada (NRCAN).
The Historical Aerial Photography of Indian Residential Schools dataset is in a web readable dynamic imagery service (ESRI Rest), which means it can be both viewed in an internet browser or added as a layer into a wide range of mapping software and applications. The Indigenous Services Canada’s Geomatics Service is continuing to add Historical Aerial Photographs and this dataset should be considered evergreen as new information and photography sources are identified.
Name: Pensionnats-Schools/National_Imagery
Description: To support a wide range of efforts to understand the geographic context and historical conditions of the Indian Residential Schools sites for a wide range of stakeholders, Indigenous Services Canada has created a web-based layer to access and visualize Historical Aerial Photography for those sites.
The Historical Aerial Photography of Indian Residential Schools dataset contain digital scans of aerial photographs that were acquired from 1924 to 1998 over Indian Residential school sites and surrounding areas across Canada. The digital scans were georeferenced, to match ground coordinates, saved in a resampled uncompressed raster format and compiled in a single mosaic layer along with attribute information for each photo such as date of photography. These are by no means the complete range of aerial photographs of each site, but instead an attempt has been made to select a single optimal photograph for each site that is of good photographic quality and acquired during each site’s years of operation. In some cases no photograph is available, and in others a photograph was only available after the years of operation. The source scanned prints was obtained from the archives of the National Air Photo Library (NAPL) of Natural Resources Canada (NRCAN).
The Historical Aerial Photography of Indian Residential Schools dataset is in a web readable dynamic imagery service (ESRI Rest), which means it can be both viewed in an internet browser or added as a layer into a wide range of mapping software and applications. The Indigenous Services Canada’s Geomatics Service is continuing to add Historical Aerial Photographs and this dataset should be considered evergreen as new information and photography sources are identified.
Single Fused Map Cache: false
Extent:
XMin: -139.46960619480427
YMin: 43.10990049499304
XMax: -63.39472968798313
YMax: 72.71338376360487
Spatial Reference: 4326
(4326)
LatestVCSWkid(0)
Initial Extent:
XMin: -139.46960619480427
YMin: 43.10990049499304
XMax: -63.39472968798313
YMax: 72.71338376360487
Spatial Reference: 4326
(4326)
LatestVCSWkid(0)
Full Extent:
XMin: -139.46960619480427
YMin: 43.10990049499304
XMax: -63.39472968798313
YMax: 72.71338376360487
Spatial Reference: 4326
(4326)
LatestVCSWkid(0)
Pixel Size X: 1.0886069312645406E-6
Pixel Size Y: 1.0886069312645406E-6
Band Count: 1
Pixel Type: U8
RasterFunction Infos: {"rasterFunctionInfos": [{
"name": "None",
"description": "A No-Op Function.",
"help": ""
}]}
Mensuration Capabilities: None
Inspection Capabilities:
Has Histograms: true
Has Colormap: false
Has Multi Dimensions : false
Rendering Rule:
Min Scale: 0
Max Scale: 0
Resampling: false
Copyright Text:
Service Data Type: esriImageServiceDataTypeGeneric
Min Values: 10
Max Values: 255
Mean Values: 136.99173553719012
Standard Deviation Values: 47.46121805581818
Object ID Field: OBJECTID
Fields:
-
OBJECTID
(
type: esriFieldTypeOID, alias: OBJECTID
)
-
Shape
(
type: esriFieldTypeGeometry, alias: Shape
)
-
Name
(
type: esriFieldTypeString, alias: Name, length: 200
)
-
MinPS
(
type: esriFieldTypeDouble, alias: MinPS
)
-
MaxPS
(
type: esriFieldTypeDouble, alias: MaxPS
)
-
LowPS
(
type: esriFieldTypeDouble, alias: LowPS
)
-
HighPS
(
type: esriFieldTypeDouble, alias: HighPS
)
-
Category
(
type: esriFieldTypeInteger, alias: Category
, Coded Values:
[0: Unknown]
, [1: Primary]
, [2: Overview]
, ...6 more...
)
-
Tag
(
type: esriFieldTypeString, alias: Tag, length: 100
)
-
GroupName
(
type: esriFieldTypeString, alias: GroupName, length: 100
)
-
ProductName
(
type: esriFieldTypeString, alias: ProductName, length: 100
)
-
CenterX
(
type: esriFieldTypeDouble, alias: CenterX
)
-
CenterY
(
type: esriFieldTypeDouble, alias: CenterY
)
-
ZOrder
(
type: esriFieldTypeInteger, alias: ZOrder
)
-
Shape_Length
(
type: esriFieldTypeDouble, alias: Shape_Length
)
-
Shape_Area
(
type: esriFieldTypeDouble, alias: Shape_Area
)
-
SOrder
(
type: esriFieldTypeInteger, alias: SOrder
)
-
SLevelPS
(
type: esriFieldTypeDouble, alias: SLevelPS
)
-
SchoolID
(
type: esriFieldTypeString, alias: SchoolID, length: 50
)
-
LocID
(
type: esriFieldTypeString, alias: LocID, length: 50
)
-
LocName
(
type: esriFieldTypeString, alias: LocName, length: 150
)
-
Image_nb
(
type: esriFieldTypeString, alias: Image_nb, length: 50
)
-
ROLL_NUMBE
(
type: esriFieldTypeString, alias: ROLL_NUMBE, length: 50
)
-
PHOTO_NUMB
(
type: esriFieldTypeString, alias: PHOTO_NUMB, length: 50
)
-
NAPL_DATE
(
type: esriFieldTypeString, alias: NAPL_DATE, length: 50
)
-
LocEarlyYR
(
type: esriFieldTypeString, alias: LocEarlyYR, length: 50
)
-
LocLastYR
(
type: esriFieldTypeString, alias: LocLastYR, length: 50
)
-
ImageTime
(
type: esriFieldTypeString, alias: ImageTime, length: 50
)
-
SchoolVisibility
(
type: esriFieldTypeString, alias: SchoolVisibility, length: 50
)
-
BldgStatus
(
type: esriFieldTypeString, alias: BldgStatus, length: 50
)
-
SCALE
(
type: esriFieldTypeString, alias: SCALE, length: 50
)
Default Mosaic Method: Seamline
Allowed Mosaic Methods: Seamline,NorthWest,Center,LockRaster,ByAttribute,Nadir,Viewpoint,None
SortField:
SortValue: null
Mosaic Operator: First
Default Compression Quality: 75
Default Resampling Method: Bilinear
Max Record Count: 1000
Max Image Height: 4100
Max Image Width: 15000
Max Download Image Count: 20
Max Mosaic Image Count: 20
Allow Raster Function: true
Allow Copy: true
Allow Analysis: true
Allow Compute TiePoints: false
Supports Statistics: true
Supports Advanced Queries: true
Use StandardizedQueries: true
Raster Type Infos:
Name: Raster Dataset
Description: Supports all ArcGIS Raster Datasets
Help:
Has Raster Attribute Table: false
Edit Fields Info: null
Ownership Based AccessControl For Rasters: null
Child Resources:
Info
Histograms
Statistics
Key Properties
Legend
Raster Function Infos
Supported Operations:
Export Image
Query
Identify
Compute Histograms
Compute Statistics Histograms
Get Samples
Compute Class Statistics
Query GPS Info
Find Images
Image to Map
Map to Image
Measure from Image
Image to Map Multiray
Query Boundary
Compute Pixel Location
Compute Angles
Validate
Project